BEGIN:VCALENDAR
VERSION:2.0
PRODID:-//Valley Church of Christ - ECPv6.15.18//NONSGML v1.0//EN
CALSCALE:GREGORIAN
METHOD:PUBLISH
X-WR-CALNAME:Valley Church of Christ
X-ORIGINAL-URL:https://valleycoc.com
X-WR-CALDESC:Events for Valley Church of Christ
REFRESH-INTERVAL;VALUE=DURATION:PT1H
X-Robots-Tag:noindex
X-PUBLISHED-TTL:PT1H
BEGIN:VTIMEZONE
TZID:America/Chicago
BEGIN:DAYLIGHT
TZOFFSETFROM:-0600
TZOFFSETTO:-0500
TZNAME:CDT
DTSTART:20230312T080000
END:DAYLIGHT
BEGIN:STANDARD
TZOFFSETFROM:-0500
TZOFFSETTO:-0600
TZNAME:CST
DTSTART:20231105T070000
END:STANDARD
BEGIN:DAYLIGHT
TZOFFSETFROM:-0600
TZOFFSETTO:-0500
TZNAME:CDT
DTSTART:20240310T080000
END:DAYLIGHT
BEGIN:STANDARD
TZOFFSETFROM:-0500
TZOFFSETTO:-0600
TZNAME:CST
DTSTART:20241103T070000
END:STANDARD
BEGIN:DAYLIGHT
TZOFFSETFROM:-0600
TZOFFSETTO:-0500
TZNAME:CDT
DTSTART:20250309T080000
END:DAYLIGHT
BEGIN:STANDARD
TZOFFSETFROM:-0500
TZOFFSETTO:-0600
TZNAME:CST
DTSTART:20251102T070000
END:STANDARD
END:VTIMEZONE
BEGIN:VEVENT
DTSTART;TZID=America/Chicago:20240602T103000
DTEND;TZID=America/Chicago:20240602T120000
DTSTAMP:20260422T185348
CREATED:20240205T022845Z
LAST-MODIFIED:20240601T164321Z
UID:10000610-1717324200-1717329600@valleycoc.com
SUMMARY:Sunday AM Service
DESCRIPTION:Speaker: Bruce
URL:https://valleycoc.com/eventsadd/sunday-am-service-75/
LOCATION:Valley Church of Christ\, 121 E College St\, Gunter\, TX 75058\, USA
CATEGORIES:Service
END:VEVENT
BEGIN:VEVENT
DTSTART;TZID=America/Chicago:20240602T140000
DTEND;TZID=America/Chicago:20240602T150000
DTSTAMP:20260422T185348
CREATED:20240208T023911Z
LAST-MODIFIED:20240602T171105Z
UID:10000611-1717336800-1717340400@valleycoc.com
SUMMARY:Sunday PM Service
DESCRIPTION:Speaker: Merrill
URL:https://valleycoc.com/eventsadd/sunday-pm-service-73/
LOCATION:Valley Church of Christ\, 121 E College St\, Gunter\, TX 75058\, USA
CATEGORIES:Service
END:VEVENT
BEGIN:VEVENT
DTSTART;TZID=America/Chicago:20240605T193000
DTEND;TZID=America/Chicago:20240605T203000
DTSTAMP:20260422T185348
CREATED:20240212T030944Z
LAST-MODIFIED:20240605T171005Z
UID:10000612-1717615800-1717619400@valleycoc.com
SUMMARY:Wednesday Evening Service
DESCRIPTION:Speaker: Chance
URL:https://valleycoc.com/eventsadd/wednesday-evening-service-77/
LOCATION:Valley Church of Christ\, 121 E College St\, Gunter\, TX 75058\, USA
CATEGORIES:Service
END:VEVENT
BEGIN:VEVENT
DTSTART;TZID=America/Chicago:20240609T103000
DTEND;TZID=America/Chicago:20240609T120000
DTSTAMP:20260422T185348
CREATED:20240212T030944Z
LAST-MODIFIED:20240608T172634Z
UID:10000613-1717929000-1717934400@valleycoc.com
SUMMARY:Sunday AM Service
DESCRIPTION:Speaker: Alan
URL:https://valleycoc.com/eventsadd/sunday-am-service-76/
LOCATION:Valley Church of Christ\, 121 E College St\, Gunter\, TX 75058\, USA
CATEGORIES:Service
END:VEVENT
BEGIN:VEVENT
DTSTART;TZID=America/Chicago:20240609T140000
DTEND;TZID=America/Chicago:20240609T150000
DTSTAMP:20260422T185348
CREATED:20240215T032511Z
LAST-MODIFIED:20240609T172421Z
UID:10000614-1717941600-1717945200@valleycoc.com
SUMMARY:Sunday PM Service
DESCRIPTION:Speaker: Cooper
URL:https://valleycoc.com/eventsadd/sunday-pm-service-74/
LOCATION:Valley Church of Christ\, 121 E College St\, Gunter\, TX 75058\, USA
CATEGORIES:Service
END:VEVENT
BEGIN:VEVENT
DTSTART;TZID=America/Chicago:20240612T193000
DTEND;TZID=America/Chicago:20240612T203000
DTSTAMP:20260422T185348
CREATED:20240219T032507Z
LAST-MODIFIED:20240611T172415Z
UID:10000615-1718220600-1718224200@valleycoc.com
SUMMARY:Wednesday Evening Service
DESCRIPTION:Speaker: Tony Hamilton
URL:https://valleycoc.com/eventsadd/wednesday-evening-service-78/
LOCATION:Valley Church of Christ\, 121 E College St\, Gunter\, TX 75058\, USA
CATEGORIES:Service
END:VEVENT
BEGIN:VEVENT
DTSTART;TZID=America/Chicago:20240616T103000
DTEND;TZID=America/Chicago:20240616T120000
DTSTAMP:20260422T185348
CREATED:20240219T032507Z
LAST-MODIFIED:20240615T172637Z
UID:10000616-1718533800-1718539200@valleycoc.com
SUMMARY:Sunday AM Service
DESCRIPTION:Speaker: Marlon
URL:https://valleycoc.com/eventsadd/sunday-am-service-77/
LOCATION:Valley Church of Christ\, 121 E College St\, Gunter\, TX\, United States
CATEGORIES:Service
GEO:33.45294;-96.740493
X-APPLE-STRUCTURED-LOCATION;VALUE=URI;X-ADDRESS=Valley Church of Christ 121 E College St Gunter TX United States;X-APPLE-RADIUS=500;X-TITLE=121 E College St:geo:-96.740493,33.45294
END:VEVENT
BEGIN:VEVENT
DTSTART;TZID=America/Chicago:20240616T140000
DTEND;TZID=America/Chicago:20240616T150000
DTSTAMP:20260422T185348
CREATED:20240222T032448Z
LAST-MODIFIED:20240616T172602Z
UID:10000618-1718546400-1718550000@valleycoc.com
SUMMARY:Sunday PM Service
DESCRIPTION:Speaker: Ryan Hayes
URL:https://valleycoc.com/eventsadd/sunday-pm-service-75/
LOCATION:Valley Church of Christ\, 121 E College St\, Gunter\, TX\, United States
CATEGORIES:Service
GEO:33.45294;-96.740493
X-APPLE-STRUCTURED-LOCATION;VALUE=URI;X-ADDRESS=Valley Church of Christ 121 E College St Gunter TX United States;X-APPLE-RADIUS=500;X-TITLE=121 E College St:geo:-96.740493,33.45294
END:VEVENT
BEGIN:VEVENT
DTSTART;TZID=America/Chicago:20240619T193000
DTEND;TZID=America/Chicago:20240619T203000
DTSTAMP:20260422T185348
CREATED:20240226T035442Z
LAST-MODIFIED:20240619T173044Z
UID:10000619-1718825400-1718829000@valleycoc.com
SUMMARY:Wednesday Evening Service
DESCRIPTION:Speaker: Cale
URL:https://valleycoc.com/eventsadd/wednesday-evening-service-79/
LOCATION:Valley Church of Christ\, 121 E College St\, Gunter\, TX\, United States
CATEGORIES:Service
GEO:33.45294;-96.740493
X-APPLE-STRUCTURED-LOCATION;VALUE=URI;X-ADDRESS=Valley Church of Christ 121 E College St Gunter TX United States;X-APPLE-RADIUS=500;X-TITLE=121 E College St:geo:-96.740493,33.45294
END:VEVENT
BEGIN:VEVENT
DTSTART;TZID=America/Chicago:20240623T103000
DTEND;TZID=America/Chicago:20240623T120000
DTSTAMP:20260422T185348
CREATED:20240226T035442Z
LAST-MODIFIED:20240622T174155Z
UID:10000620-1719138600-1719144000@valleycoc.com
SUMMARY:Sunday AM Service
DESCRIPTION:Speaker: Jordan Dancer Meeting
URL:https://valleycoc.com/eventsadd/sunday-am-service-78/
LOCATION:Valley Church of Christ\, 121 E College St\, Gunter\, TX\, United States
CATEGORIES:Service
GEO:33.45294;-96.740493
X-APPLE-STRUCTURED-LOCATION;VALUE=URI;X-ADDRESS=Valley Church of Christ 121 E College St Gunter TX United States;X-APPLE-RADIUS=500;X-TITLE=121 E College St:geo:-96.740493,33.45294
END:VEVENT
BEGIN:VEVENT
DTSTART;TZID=America/Chicago:20240623T140000
DTEND;TZID=America/Chicago:20240623T150000
DTSTAMP:20260422T185348
CREATED:20240229T035642Z
LAST-MODIFIED:20240623T174222Z
UID:10000621-1719151200-1719154800@valleycoc.com
SUMMARY:Sunday PM Service
DESCRIPTION:Speaker: Jordan Dancer Meeting
URL:https://valleycoc.com/eventsadd/sunday-pm-service-76/
LOCATION:Valley Church of Christ\, 121 E College St\, Gunter\, TX\, United States
CATEGORIES:Service
GEO:33.45294;-96.740493
X-APPLE-STRUCTURED-LOCATION;VALUE=URI;X-ADDRESS=Valley Church of Christ 121 E College St Gunter TX United States;X-APPLE-RADIUS=500;X-TITLE=121 E College St:geo:-96.740493,33.45294
END:VEVENT
BEGIN:VEVENT
DTSTART;TZID=America/Chicago:20240626T193000
DTEND;TZID=America/Chicago:20240626T203000
DTSTAMP:20260422T185348
CREATED:20240304T035834Z
LAST-MODIFIED:20240626T174002Z
UID:10000623-1719430200-1719433800@valleycoc.com
SUMMARY:Wednesday Evening Service
DESCRIPTION:Speaker: Jordan Dancer Meeting
URL:https://valleycoc.com/eventsadd/wednesday-evening-service-80/
LOCATION:Valley Church of Christ\, 121 E College St\, Gunter\, TX\, United States
CATEGORIES:Service
GEO:33.45294;-96.740493
X-APPLE-STRUCTURED-LOCATION;VALUE=URI;X-ADDRESS=Valley Church of Christ 121 E College St Gunter TX United States;X-APPLE-RADIUS=500;X-TITLE=121 E College St:geo:-96.740493,33.45294
END:VEVENT
BEGIN:VEVENT
DTSTART;TZID=America/Chicago:20240630T103000
DTEND;TZID=America/Chicago:20240630T120000
DTSTAMP:20260422T185348
CREATED:20240304T035834Z
LAST-MODIFIED:20240629T175533Z
UID:10000624-1719743400-1719748800@valleycoc.com
SUMMARY:Sunday AM Service
DESCRIPTION:Speaker: Jordan Dancer
URL:https://valleycoc.com/eventsadd/sunday-am-service-79/
LOCATION:Valley Church of Christ\, 121 E College St\, Gunter\, TX\, United States
CATEGORIES:Service
GEO:33.45294;-96.740493
X-APPLE-STRUCTURED-LOCATION;VALUE=URI;X-ADDRESS=Valley Church of Christ 121 E College St Gunter TX United States;X-APPLE-RADIUS=500;X-TITLE=121 E College St:geo:-96.740493,33.45294
END:VEVENT
BEGIN:VEVENT
DTSTART;TZID=America/Chicago:20240630T140000
DTEND;TZID=America/Chicago:20240630T150000
DTSTAMP:20260422T185348
CREATED:20240307T040918Z
LAST-MODIFIED:20240630T175823Z
UID:10000626-1719756000-1719759600@valleycoc.com
SUMMARY:Sunday PM Service
DESCRIPTION:Speaker: Jordan Dancer
URL:https://valleycoc.com/eventsadd/sunday-pm-service-77/
LOCATION:Valley Church of Christ\, 121 E College St\, Gunter\, TX\, United States
CATEGORIES:Service
GEO:33.45294;-96.740493
X-APPLE-STRUCTURED-LOCATION;VALUE=URI;X-ADDRESS=Valley Church of Christ 121 E College St Gunter TX United States;X-APPLE-RADIUS=500;X-TITLE=121 E College St:geo:-96.740493,33.45294
END:VEVENT
END:VCALENDAR