BEGIN:VCALENDAR
VERSION:2.0
PRODID:-//Valley Church of Christ - ECPv6.15.18//NONSGML v1.0//EN
CALSCALE:GREGORIAN
METHOD:PUBLISH
X-WR-CALNAME:Valley Church of Christ
X-ORIGINAL-URL:https://valleycoc.com
X-WR-CALDESC:Events for Valley Church of Christ
REFRESH-INTERVAL;VALUE=DURATION:PT1H
X-Robots-Tag:noindex
X-PUBLISHED-TTL:PT1H
BEGIN:VTIMEZONE
TZID:America/Chicago
BEGIN:DAYLIGHT
TZOFFSETFROM:-0600
TZOFFSETTO:-0500
TZNAME:CDT
DTSTART:20230312T080000
END:DAYLIGHT
BEGIN:STANDARD
TZOFFSETFROM:-0500
TZOFFSETTO:-0600
TZNAME:CST
DTSTART:20231105T070000
END:STANDARD
BEGIN:DAYLIGHT
TZOFFSETFROM:-0600
TZOFFSETTO:-0500
TZNAME:CDT
DTSTART:20240310T080000
END:DAYLIGHT
BEGIN:STANDARD
TZOFFSETFROM:-0500
TZOFFSETTO:-0600
TZNAME:CST
DTSTART:20241103T070000
END:STANDARD
BEGIN:DAYLIGHT
TZOFFSETFROM:-0600
TZOFFSETTO:-0500
TZNAME:CDT
DTSTART:20250309T080000
END:DAYLIGHT
BEGIN:STANDARD
TZOFFSETFROM:-0500
TZOFFSETTO:-0600
TZNAME:CST
DTSTART:20251102T070000
END:STANDARD
END:VTIMEZONE
BEGIN:VEVENT
DTSTART;TZID=America/Chicago:20240703T193000
DTEND;TZID=America/Chicago:20240703T203000
DTSTAMP:20260422T133336
CREATED:20240311T042542Z
LAST-MODIFIED:20240703T181109Z
UID:10000627-1720035000-1720038600@valleycoc.com
SUMMARY:Wednesday Evening Service
DESCRIPTION:Speaker: Tex Autry
URL:https://valleycoc.com/eventsadd/wednesday-evening-service-81/
LOCATION:Valley Church of Christ\, 121 E College St\, Gunter\, TX\, United States
CATEGORIES:Service
GEO:33.45294;-96.740493
X-APPLE-STRUCTURED-LOCATION;VALUE=URI;X-ADDRESS=Valley Church of Christ 121 E College St Gunter TX United States;X-APPLE-RADIUS=500;X-TITLE=121 E College St:geo:-96.740493,33.45294
END:VEVENT
BEGIN:VEVENT
DTSTART;TZID=America/Chicago:20240707T103000
DTEND;TZID=America/Chicago:20240707T120000
DTSTAMP:20260422T133336
CREATED:20240311T042543Z
LAST-MODIFIED:20240706T181126Z
UID:10000628-1720348200-1720353600@valleycoc.com
SUMMARY:Sunday AM Service
DESCRIPTION:Speaker: TBD
URL:https://valleycoc.com/eventsadd/sunday-am-service-80/
LOCATION:Valley Church of Christ\, 121 E College St\, Gunter\, TX\, United States
CATEGORIES:Service
GEO:33.45294;-96.740493
X-APPLE-STRUCTURED-LOCATION;VALUE=URI;X-ADDRESS=Valley Church of Christ 121 E College St Gunter TX United States;X-APPLE-RADIUS=500;X-TITLE=121 E College St:geo:-96.740493,33.45294
END:VEVENT
BEGIN:VEVENT
DTSTART;TZID=America/Chicago:20240707T140000
DTEND;TZID=America/Chicago:20240707T150000
DTSTAMP:20260422T133336
CREATED:20240314T042430Z
LAST-MODIFIED:20240707T180912Z
UID:10000629-1720360800-1720364400@valleycoc.com
SUMMARY:Sunday PM Service
DESCRIPTION:Speaker: TBD
URL:https://valleycoc.com/eventsadd/sunday-pm-service-78/
LOCATION:Valley Church of Christ\, 121 E College St\, Gunter\, TX\, United States
CATEGORIES:Service
GEO:33.45294;-96.740493
X-APPLE-STRUCTURED-LOCATION;VALUE=URI;X-ADDRESS=Valley Church of Christ 121 E College St Gunter TX United States;X-APPLE-RADIUS=500;X-TITLE=121 E College St:geo:-96.740493,33.45294
END:VEVENT
BEGIN:VEVENT
DTSTART;TZID=America/Chicago:20240710T193000
DTEND;TZID=America/Chicago:20240710T203000
DTSTAMP:20260422T133336
CREATED:20240318T044224Z
LAST-MODIFIED:20240710T135513Z
UID:10000630-1720639800-1720643400@valleycoc.com
SUMMARY:Wednesday Evening Service
DESCRIPTION:Speaker: Hayden
URL:https://valleycoc.com/eventsadd/wednesday-evening-service-82/
LOCATION:Valley Church of Christ\, 121 E College St\, Gunter\, TX\, United States
CATEGORIES:Service
GEO:33.45294;-96.740493
X-APPLE-STRUCTURED-LOCATION;VALUE=URI;X-ADDRESS=Valley Church of Christ 121 E College St Gunter TX United States;X-APPLE-RADIUS=500;X-TITLE=121 E College St:geo:-96.740493,33.45294
END:VEVENT
BEGIN:VEVENT
DTSTART;TZID=America/Chicago:20240714T103000
DTEND;TZID=America/Chicago:20240714T120000
DTSTAMP:20260422T133336
CREATED:20240318T044224Z
LAST-MODIFIED:20240714T140022Z
UID:10000631-1720953000-1720958400@valleycoc.com
SUMMARY:Sunday AM Service
DESCRIPTION:Speaker: Lynn Gravley
URL:https://valleycoc.com/eventsadd/sunday-am-service-81/
LOCATION:Valley Church of Christ\, 121 E College St\, Gunter\, TX\, United States
CATEGORIES:Service
GEO:33.45294;-96.740493
X-APPLE-STRUCTURED-LOCATION;VALUE=URI;X-ADDRESS=Valley Church of Christ 121 E College St Gunter TX United States;X-APPLE-RADIUS=500;X-TITLE=121 E College St:geo:-96.740493,33.45294
END:VEVENT
BEGIN:VEVENT
DTSTART;TZID=America/Chicago:20240714T140000
DTEND;TZID=America/Chicago:20240714T150000
DTSTAMP:20260422T133336
CREATED:20240321T045452Z
LAST-MODIFIED:20240714T140023Z
UID:10000632-1720965600-1720969200@valleycoc.com
SUMMARY:Sunday PM Service
DESCRIPTION:Speaker: Brad Walters
URL:https://valleycoc.com/eventsadd/sunday-pm-service-79/
LOCATION:Valley Church of Christ\, 121 E College St\, Gunter\, TX\, United States
CATEGORIES:Service
GEO:33.45294;-96.740493
X-APPLE-STRUCTURED-LOCATION;VALUE=URI;X-ADDRESS=Valley Church of Christ 121 E College St Gunter TX United States;X-APPLE-RADIUS=500;X-TITLE=121 E College St:geo:-96.740493,33.45294
END:VEVENT
BEGIN:VEVENT
DTSTART;TZID=America/Chicago:20240717T193000
DTEND;TZID=America/Chicago:20240717T203000
DTSTAMP:20260422T133336
CREATED:20240325T050909Z
LAST-MODIFIED:20240717T142742Z
UID:10000634-1721244600-1721248200@valleycoc.com
SUMMARY:Wednesday Evening Service
DESCRIPTION:Speaker: Wesley
URL:https://valleycoc.com/eventsadd/wednesday-evening-service-83/
LOCATION:Valley Church of Christ\, 121 E College St\, Gunter\, TX\, United States
CATEGORIES:Service
GEO:33.45294;-96.740493
X-APPLE-STRUCTURED-LOCATION;VALUE=URI;X-ADDRESS=Valley Church of Christ 121 E College St Gunter TX United States;X-APPLE-RADIUS=500;X-TITLE=121 E College St:geo:-96.740493,33.45294
END:VEVENT
BEGIN:VEVENT
DTSTART;TZID=America/Chicago:20240721T103000
DTEND;TZID=America/Chicago:20240721T120000
DTSTAMP:20260422T133336
CREATED:20240325T050909Z
LAST-MODIFIED:20240721T144228Z
UID:10000635-1721557800-1721563200@valleycoc.com
SUMMARY:Sunday AM Service
DESCRIPTION:Speaker: Tom B
URL:https://valleycoc.com/eventsadd/sunday-am-service-82/
LOCATION:Valley Church of Christ\, 121 E College St\, Gunter\, TX\, United States
CATEGORIES:Service
GEO:33.45294;-96.740493
X-APPLE-STRUCTURED-LOCATION;VALUE=URI;X-ADDRESS=Valley Church of Christ 121 E College St Gunter TX United States;X-APPLE-RADIUS=500;X-TITLE=121 E College St:geo:-96.740493,33.45294
END:VEVENT
BEGIN:VEVENT
DTSTART;TZID=America/Chicago:20240721T140000
DTEND;TZID=America/Chicago:20240721T150000
DTSTAMP:20260422T133336
CREATED:20240328T052606Z
LAST-MODIFIED:20240721T144228Z
UID:10000636-1721570400-1721574000@valleycoc.com
SUMMARY:Sunday PM Service
DESCRIPTION:Speaker: Marlon
URL:https://valleycoc.com/eventsadd/sunday-pm-service-80/
LOCATION:Valley Church of Christ\, 121 E College St\, Gunter\, TX\, United States
CATEGORIES:Service
GEO:33.45294;-96.740493
X-APPLE-STRUCTURED-LOCATION;VALUE=URI;X-ADDRESS=Valley Church of Christ 121 E College St Gunter TX United States;X-APPLE-RADIUS=500;X-TITLE=121 E College St:geo:-96.740493,33.45294
END:VEVENT
BEGIN:VEVENT
DTSTART;TZID=America/Chicago:20240724T193000
DTEND;TZID=America/Chicago:20240724T203000
DTSTAMP:20260422T133336
CREATED:20240401T053909Z
LAST-MODIFIED:20240724T150059Z
UID:10000637-1721849400-1721853000@valleycoc.com
SUMMARY:Wednesday Evening Service
DESCRIPTION:Speaker: Alan
URL:https://valleycoc.com/eventsadd/wednesday-evening-service-84/
LOCATION:Valley Church of Christ\, 121 E College St\, Gunter\, TX\, United States
CATEGORIES:Service
GEO:33.45294;-96.740493
X-APPLE-STRUCTURED-LOCATION;VALUE=URI;X-ADDRESS=Valley Church of Christ 121 E College St Gunter TX United States;X-APPLE-RADIUS=500;X-TITLE=121 E College St:geo:-96.740493,33.45294
END:VEVENT
BEGIN:VEVENT
DTSTART;TZID=America/Chicago:20240728T103000
DTEND;TZID=America/Chicago:20240728T120000
DTSTAMP:20260422T133336
CREATED:20240401T053909Z
LAST-MODIFIED:20240728T150934Z
UID:10000638-1722162600-1722168000@valleycoc.com
SUMMARY:Sunday AM Service
DESCRIPTION:Speaker: Cooper
URL:https://valleycoc.com/eventsadd/sunday-am-service-83/
LOCATION:Valley Church of Christ\, 121 E College St\, Gunter\, TX\, United States
CATEGORIES:Service
GEO:33.45294;-96.740493
X-APPLE-STRUCTURED-LOCATION;VALUE=URI;X-ADDRESS=Valley Church of Christ 121 E College St Gunter TX United States;X-APPLE-RADIUS=500;X-TITLE=121 E College St:geo:-96.740493,33.45294
END:VEVENT
BEGIN:VEVENT
DTSTART;TZID=America/Chicago:20240728T140000
DTEND;TZID=America/Chicago:20240728T150000
DTSTAMP:20260422T133336
CREATED:20240404T053952Z
LAST-MODIFIED:20240728T150934Z
UID:10000639-1722175200-1722178800@valleycoc.com
SUMMARY:Sunday PM Service
DESCRIPTION:Speaker: Zach
URL:https://valleycoc.com/eventsadd/sunday-pm-service-81/
LOCATION:Valley Church of Christ\, 121 E College St\, Gunter\, TX\, United States
CATEGORIES:Service
GEO:33.45294;-96.740493
X-APPLE-STRUCTURED-LOCATION;VALUE=URI;X-ADDRESS=Valley Church of Christ 121 E College St Gunter TX United States;X-APPLE-RADIUS=500;X-TITLE=121 E College St:geo:-96.740493,33.45294
END:VEVENT
END:VCALENDAR