BEGIN:VCALENDAR
VERSION:2.0
PRODID:-//Valley Church of Christ - ECPv6.15.18//NONSGML v1.0//EN
CALSCALE:GREGORIAN
METHOD:PUBLISH
X-WR-CALNAME:Valley Church of Christ
X-ORIGINAL-URL:https://valleycoc.com
X-WR-CALDESC:Events for Valley Church of Christ
REFRESH-INTERVAL;VALUE=DURATION:PT1H
X-Robots-Tag:noindex
X-PUBLISHED-TTL:PT1H
BEGIN:VTIMEZONE
TZID:America/Chicago
BEGIN:DAYLIGHT
TZOFFSETFROM:-0600
TZOFFSETTO:-0500
TZNAME:CDT
DTSTART:20240310T080000
END:DAYLIGHT
BEGIN:STANDARD
TZOFFSETFROM:-0500
TZOFFSETTO:-0600
TZNAME:CST
DTSTART:20241103T070000
END:STANDARD
BEGIN:DAYLIGHT
TZOFFSETFROM:-0600
TZOFFSETTO:-0500
TZNAME:CDT
DTSTART:20250309T080000
END:DAYLIGHT
BEGIN:STANDARD
TZOFFSETFROM:-0500
TZOFFSETTO:-0600
TZNAME:CST
DTSTART:20251102T070000
END:STANDARD
BEGIN:DAYLIGHT
TZOFFSETFROM:-0600
TZOFFSETTO:-0500
TZNAME:CDT
DTSTART:20260308T080000
END:DAYLIGHT
BEGIN:STANDARD
TZOFFSETFROM:-0500
TZOFFSETTO:-0600
TZNAME:CST
DTSTART:20261101T070000
END:STANDARD
END:VTIMEZONE
BEGIN:VEVENT
DTSTART;TZID=America/Chicago:20250302T103000
DTEND;TZID=America/Chicago:20250302T120000
DTSTAMP:20260421T172822
CREATED:20241104T132653Z
LAST-MODIFIED:20250302T025945Z
UID:10000742-1740911400-1740916800@valleycoc.com
SUMMARY:Sunday AM Service
DESCRIPTION:Speaker: Larry H
URL:https://valleycoc.com/eventsadd/sunday-am-service-114/
LOCATION:Valley Church of Christ\, 121 E College St\, Gunter\, TX\, United States
CATEGORIES:Service
GEO:33.45294;-96.740493
X-APPLE-STRUCTURED-LOCATION;VALUE=URI;X-ADDRESS=Valley Church of Christ 121 E College St Gunter TX United States;X-APPLE-RADIUS=500;X-TITLE=121 E College St:geo:-96.740493,33.45294
END:VEVENT
BEGIN:VEVENT
DTSTART;TZID=America/Chicago:20250302T140000
DTEND;TZID=America/Chicago:20250302T150000
DTSTAMP:20260421T172822
CREATED:20241107T132423Z
LAST-MODIFIED:20250302T025945Z
UID:10000743-1740924000-1740927600@valleycoc.com
SUMMARY:Sunday PM Service
DESCRIPTION:Speaker: Tony H
URL:https://valleycoc.com/eventsadd/sunday-pm-service-112/
LOCATION:Valley Church of Christ\, 121 E College St\, Gunter\, TX\, United States
CATEGORIES:Service
GEO:33.45294;-96.740493
X-APPLE-STRUCTURED-LOCATION;VALUE=URI;X-ADDRESS=Valley Church of Christ 121 E College St Gunter TX United States;X-APPLE-RADIUS=500;X-TITLE=121 E College St:geo:-96.740493,33.45294
END:VEVENT
BEGIN:VEVENT
DTSTART;TZID=America/Chicago:20250305T193000
DTEND;TZID=America/Chicago:20250305T203000
DTSTAMP:20260421T172822
CREATED:20241111T132532Z
LAST-MODIFIED:20250305T032656Z
UID:10000744-1741203000-1741206600@valleycoc.com
SUMMARY:Wednesday Evening Service
DESCRIPTION:Speaker: Hayden
URL:https://valleycoc.com/eventsadd/wednesday-evening-service-116/
LOCATION:Valley Church of Christ\, 121 E College St\, Gunter\, TX\, United States
CATEGORIES:Service
GEO:33.45294;-96.740493
X-APPLE-STRUCTURED-LOCATION;VALUE=URI;X-ADDRESS=Valley Church of Christ 121 E College St Gunter TX United States;X-APPLE-RADIUS=500;X-TITLE=121 E College St:geo:-96.740493,33.45294
END:VEVENT
BEGIN:VEVENT
DTSTART;TZID=America/Chicago:20250309T103000
DTEND;TZID=America/Chicago:20250309T120000
DTSTAMP:20260421T172822
CREATED:20241111T132532Z
LAST-MODIFIED:20250309T034044Z
UID:10000745-1741516200-1741521600@valleycoc.com
SUMMARY:Sunday AM Service
DESCRIPTION:Speaker: Larry H
URL:https://valleycoc.com/eventsadd/sunday-am-service-115/
LOCATION:Valley Church of Christ\, 121 E College St\, Gunter\, TX\, United States
CATEGORIES:Service
GEO:33.45294;-96.740493
X-APPLE-STRUCTURED-LOCATION;VALUE=URI;X-ADDRESS=Valley Church of Christ 121 E College St Gunter TX United States;X-APPLE-RADIUS=500;X-TITLE=121 E College St:geo:-96.740493,33.45294
END:VEVENT
BEGIN:VEVENT
DTSTART;TZID=America/Chicago:20250309T140000
DTEND;TZID=America/Chicago:20250309T150000
DTSTAMP:20260421T172822
CREATED:20241114T134449Z
LAST-MODIFIED:20250309T034045Z
UID:10000746-1741528800-1741532400@valleycoc.com
SUMMARY:Sunday PM Service
DESCRIPTION:Speaker: Tex Autry
URL:https://valleycoc.com/eventsadd/sunday-pm-service-113/
LOCATION:Valley Church of Christ\, 121 E College St\, Gunter\, TX\, United States
CATEGORIES:Service
GEO:33.45294;-96.740493
X-APPLE-STRUCTURED-LOCATION;VALUE=URI;X-ADDRESS=Valley Church of Christ 121 E College St Gunter TX United States;X-APPLE-RADIUS=500;X-TITLE=121 E College St:geo:-96.740493,33.45294
END:VEVENT
BEGIN:VEVENT
DTSTART;TZID=America/Chicago:20250312T193000
DTEND;TZID=America/Chicago:20250312T203000
DTSTAMP:20260421T172822
CREATED:20241118T135559Z
LAST-MODIFIED:20250312T033946Z
UID:10000747-1741807800-1741811400@valleycoc.com
SUMMARY:Wednesday Evening Service
DESCRIPTION:Speaker: Sean H
URL:https://valleycoc.com/eventsadd/wednesday-evening-service-117/
LOCATION:Valley Church of Christ\, 121 E College St\, Gunter\, TX\, United States
CATEGORIES:Service
GEO:33.45294;-96.740493
X-APPLE-STRUCTURED-LOCATION;VALUE=URI;X-ADDRESS=Valley Church of Christ 121 E College St Gunter TX United States;X-APPLE-RADIUS=500;X-TITLE=121 E College St:geo:-96.740493,33.45294
END:VEVENT
BEGIN:VEVENT
DTSTART;TZID=America/Chicago:20250316T103000
DTEND;TZID=America/Chicago:20250316T120000
DTSTAMP:20260421T172822
CREATED:20241118T135559Z
LAST-MODIFIED:20250316T040919Z
UID:10000748-1742121000-1742126400@valleycoc.com
SUMMARY:Sunday AM Service
DESCRIPTION:Speaker: Marlon
URL:https://valleycoc.com/eventsadd/sunday-am-service-116/
LOCATION:Valley Church of Christ\, 121 E College St\, Gunter\, TX\, United States
CATEGORIES:Service
GEO:33.45294;-96.740493
X-APPLE-STRUCTURED-LOCATION;VALUE=URI;X-ADDRESS=Valley Church of Christ 121 E College St Gunter TX United States;X-APPLE-RADIUS=500;X-TITLE=121 E College St:geo:-96.740493,33.45294
END:VEVENT
BEGIN:VEVENT
DTSTART;TZID=America/Chicago:20250316T140000
DTEND;TZID=America/Chicago:20250316T150000
DTSTAMP:20260421T172822
CREATED:20241121T140946Z
LAST-MODIFIED:20250316T040919Z
UID:10000749-1742133600-1742137200@valleycoc.com
SUMMARY:Sunday PM Service
DESCRIPTION:Speaker: Ryan H
URL:https://valleycoc.com/eventsadd/sunday-pm-service-114/
LOCATION:Valley Church of Christ\, 121 E College St\, Gunter\, TX\, United States
CATEGORIES:Service
GEO:33.45294;-96.740493
X-APPLE-STRUCTURED-LOCATION;VALUE=URI;X-ADDRESS=Valley Church of Christ 121 E College St Gunter TX United States;X-APPLE-RADIUS=500;X-TITLE=121 E College St:geo:-96.740493,33.45294
END:VEVENT
BEGIN:VEVENT
DTSTART;TZID=America/Chicago:20250319T193000
DTEND;TZID=America/Chicago:20250319T203000
DTSTAMP:20260421T172822
CREATED:20241125T141127Z
LAST-MODIFIED:20250319T041457Z
UID:10000751-1742412600-1742416200@valleycoc.com
SUMMARY:Wednesday Evening Service
DESCRIPTION:Speaker: Gideon/Alan
URL:https://valleycoc.com/eventsadd/wednesday-evening-service-118/
LOCATION:Valley Church of Christ\, 121 E College St\, Gunter\, TX\, United States
CATEGORIES:Service
GEO:33.45294;-96.740493
X-APPLE-STRUCTURED-LOCATION;VALUE=URI;X-ADDRESS=Valley Church of Christ 121 E College St Gunter TX United States;X-APPLE-RADIUS=500;X-TITLE=121 E College St:geo:-96.740493,33.45294
END:VEVENT
BEGIN:VEVENT
DTSTART;TZID=America/Chicago:20250323T103000
DTEND;TZID=America/Chicago:20250323T120000
DTSTAMP:20260421T172822
CREATED:20241125T141127Z
LAST-MODIFIED:20250323T044038Z
UID:10000752-1742725800-1742731200@valleycoc.com
SUMMARY:Sunday AM Service
DESCRIPTION:Speaker: Brad W
URL:https://valleycoc.com/eventsadd/sunday-am-service-117/
LOCATION:Valley Church of Christ\, 121 E College St\, Gunter\, TX\, United States
CATEGORIES:Service
GEO:33.45294;-96.740493
X-APPLE-STRUCTURED-LOCATION;VALUE=URI;X-ADDRESS=Valley Church of Christ 121 E College St Gunter TX United States;X-APPLE-RADIUS=500;X-TITLE=121 E College St:geo:-96.740493,33.45294
END:VEVENT
BEGIN:VEVENT
DTSTART;TZID=America/Chicago:20250323T140000
DTEND;TZID=America/Chicago:20250323T150000
DTSTAMP:20260421T172822
CREATED:20241128T144455Z
LAST-MODIFIED:20250323T044039Z
UID:10000753-1742738400-1742742000@valleycoc.com
SUMMARY:Sunday PM Service
DESCRIPTION:Speaker: Maddox
URL:https://valleycoc.com/eventsadd/sunday-pm-service-115/
LOCATION:Valley Church of Christ\, 121 E College St\, Gunter\, TX\, United States
CATEGORIES:Service
GEO:33.45294;-96.740493
X-APPLE-STRUCTURED-LOCATION;VALUE=URI;X-ADDRESS=Valley Church of Christ 121 E College St Gunter TX United States;X-APPLE-RADIUS=500;X-TITLE=121 E College St:geo:-96.740493,33.45294
END:VEVENT
BEGIN:VEVENT
DTSTART;TZID=America/Chicago:20250326T193000
DTEND;TZID=America/Chicago:20250326T203000
DTSTAMP:20260421T172822
CREATED:20241202T145423Z
LAST-MODIFIED:20250326T045416Z
UID:10000754-1743017400-1743021000@valleycoc.com
SUMMARY:Wednesday Evening Service
DESCRIPTION:Speaker: Singing
URL:https://valleycoc.com/eventsadd/wednesday-evening-service-119/
LOCATION:Valley Church of Christ\, 121 E College St\, Gunter\, TX\, United States
CATEGORIES:Service
GEO:33.45294;-96.740493
X-APPLE-STRUCTURED-LOCATION;VALUE=URI;X-ADDRESS=Valley Church of Christ 121 E College St Gunter TX United States;X-APPLE-RADIUS=500;X-TITLE=121 E College St:geo:-96.740493,33.45294
END:VEVENT
BEGIN:VEVENT
DTSTART;TZID=America/Chicago:20250330T103000
DTEND;TZID=America/Chicago:20250330T120000
DTSTAMP:20260421T172822
CREATED:20241202T145423Z
LAST-MODIFIED:20250330T050221Z
UID:10000755-1743330600-1743336000@valleycoc.com
SUMMARY:Sunday AM Service
DESCRIPTION:Speaker: Cooper/Vince
URL:https://valleycoc.com/eventsadd/sunday-am-service-118/
LOCATION:Valley Church of Christ\, 121 E College St\, Gunter\, TX\, United States
CATEGORIES:Service
GEO:33.45294;-96.740493
X-APPLE-STRUCTURED-LOCATION;VALUE=URI;X-ADDRESS=Valley Church of Christ 121 E College St Gunter TX United States;X-APPLE-RADIUS=500;X-TITLE=121 E College St:geo:-96.740493,33.45294
END:VEVENT
BEGIN:VEVENT
DTSTART;TZID=America/Chicago:20250330T140000
DTEND;TZID=America/Chicago:20250330T150000
DTSTAMP:20260421T172822
CREATED:20241205T145539Z
LAST-MODIFIED:20250330T050221Z
UID:10000756-1743343200-1743346800@valleycoc.com
SUMMARY:Sunday PM Service
DESCRIPTION:Speaker: TBD
URL:https://valleycoc.com/eventsadd/sunday-pm-service-116/
LOCATION:Valley Church of Christ\, 121 E College St\, Gunter\, TX\, United States
CATEGORIES:Service
GEO:33.45294;-96.740493
X-APPLE-STRUCTURED-LOCATION;VALUE=URI;X-ADDRESS=Valley Church of Christ 121 E College St Gunter TX United States;X-APPLE-RADIUS=500;X-TITLE=121 E College St:geo:-96.740493,33.45294
END:VEVENT
END:VCALENDAR