BEGIN:VCALENDAR
VERSION:2.0
PRODID:-//Valley Church of Christ - ECPv6.15.18//NONSGML v1.0//EN
CALSCALE:GREGORIAN
METHOD:PUBLISH
X-ORIGINAL-URL:https://valleycoc.com
X-WR-CALDESC:Events for Valley Church of Christ
REFRESH-INTERVAL;VALUE=DURATION:PT1H
X-Robots-Tag:noindex
X-PUBLISHED-TTL:PT1H
BEGIN:VTIMEZONE
TZID:America/Chicago
BEGIN:DAYLIGHT
TZOFFSETFROM:-0600
TZOFFSETTO:-0500
TZNAME:CDT
DTSTART:20240310T080000
END:DAYLIGHT
BEGIN:STANDARD
TZOFFSETFROM:-0500
TZOFFSETTO:-0600
TZNAME:CST
DTSTART:20241103T070000
END:STANDARD
BEGIN:DAYLIGHT
TZOFFSETFROM:-0600
TZOFFSETTO:-0500
TZNAME:CDT
DTSTART:20250309T080000
END:DAYLIGHT
BEGIN:STANDARD
TZOFFSETFROM:-0500
TZOFFSETTO:-0600
TZNAME:CST
DTSTART:20251102T070000
END:STANDARD
BEGIN:DAYLIGHT
TZOFFSETFROM:-0600
TZOFFSETTO:-0500
TZNAME:CDT
DTSTART:20260308T080000
END:DAYLIGHT
BEGIN:STANDARD
TZOFFSETFROM:-0500
TZOFFSETTO:-0600
TZNAME:CST
DTSTART:20261101T070000
END:STANDARD
END:VTIMEZONE
BEGIN:VEVENT
DTSTART;TZID=America/Chicago:20250402T193000
DTEND;TZID=America/Chicago:20250402T203000
DTSTAMP:20260421T145651
CREATED:20241209T151014Z
LAST-MODIFIED:20250402T045439Z
UID:10000757-1743622200-1743625800@valleycoc.com
SUMMARY:Wednesday Evening Service
DESCRIPTION:Speaker: Cale H
URL:https://valleycoc.com/eventsadd/wednesday-evening-service-120/
LOCATION:Valley Church of Christ\, 121 E College St\, Gunter\, TX\, United States
CATEGORIES:Service
GEO:33.45294;-96.740493
X-APPLE-STRUCTURED-LOCATION;VALUE=URI;X-ADDRESS=Valley Church of Christ 121 E College St Gunter TX United States;X-APPLE-RADIUS=500;X-TITLE=121 E College St:geo:-96.740493,33.45294
END:VEVENT
BEGIN:VEVENT
DTSTART;TZID=America/Chicago:20250406T103000
DTEND;TZID=America/Chicago:20250406T120000
DTSTAMP:20260421T145651
CREATED:20241209T151014Z
LAST-MODIFIED:20250406T051057Z
UID:10000758-1743935400-1743940800@valleycoc.com
SUMMARY:Sunday AM Service
DESCRIPTION:Speaker: Mike Hall
URL:https://valleycoc.com/eventsadd/sunday-am-service-119/
LOCATION:Valley Church of Christ\, 121 E College St\, Gunter\, TX\, United States
CATEGORIES:Service
GEO:33.45294;-96.740493
X-APPLE-STRUCTURED-LOCATION;VALUE=URI;X-ADDRESS=Valley Church of Christ 121 E College St Gunter TX United States;X-APPLE-RADIUS=500;X-TITLE=121 E College St:geo:-96.740493,33.45294
END:VEVENT
BEGIN:VEVENT
DTSTART;TZID=America/Chicago:20250406T140000
DTEND;TZID=America/Chicago:20250406T150000
DTSTAMP:20260421T145651
CREATED:20241212T150938Z
LAST-MODIFIED:20250406T051058Z
UID:10000759-1743948000-1743951600@valleycoc.com
SUMMARY:Sunday PM Service
DESCRIPTION:Speaker: Mike Hall
URL:https://valleycoc.com/eventsadd/sunday-pm-service-117/
LOCATION:Valley Church of Christ\, 121 E College St\, Gunter\, TX\, United States
CATEGORIES:Service
GEO:33.45294;-96.740493
X-APPLE-STRUCTURED-LOCATION;VALUE=URI;X-ADDRESS=Valley Church of Christ 121 E College St Gunter TX United States;X-APPLE-RADIUS=500;X-TITLE=121 E College St:geo:-96.740493,33.45294
END:VEVENT
BEGIN:VEVENT
DTSTART;TZID=America/Chicago:20250409T193000
DTEND;TZID=America/Chicago:20250409T203000
DTSTAMP:20260421T145651
CREATED:20241216T155735Z
LAST-MODIFIED:20250409T052448Z
UID:10000760-1744227000-1744230600@valleycoc.com
SUMMARY:Wednesday Evening Service
DESCRIPTION:Speaker: Cale
URL:https://valleycoc.com/eventsadd/wednesday-evening-service-121/
LOCATION:Valley Church of Christ\, 121 E College St\, Gunter\, TX\, United States
CATEGORIES:Service
GEO:33.45294;-96.740493
X-APPLE-STRUCTURED-LOCATION;VALUE=URI;X-ADDRESS=Valley Church of Christ 121 E College St Gunter TX United States;X-APPLE-RADIUS=500;X-TITLE=121 E College St:geo:-96.740493,33.45294
END:VEVENT
BEGIN:VEVENT
DTSTART;TZID=America/Chicago:20250413T103000
DTEND;TZID=America/Chicago:20250413T120000
DTSTAMP:20260421T145651
CREATED:20241216T155735Z
LAST-MODIFIED:20250413T055555Z
UID:10000761-1744540200-1744545600@valleycoc.com
SUMMARY:Sunday AM Service
DESCRIPTION:Speaker: Hunter
URL:https://valleycoc.com/eventsadd/sunday-am-service-120/
LOCATION:Valley Church of Christ\, 121 E College St\, Gunter\, TX\, United States
CATEGORIES:Service
GEO:33.45294;-96.740493
X-APPLE-STRUCTURED-LOCATION;VALUE=URI;X-ADDRESS=Valley Church of Christ 121 E College St Gunter TX United States;X-APPLE-RADIUS=500;X-TITLE=121 E College St:geo:-96.740493,33.45294
END:VEVENT
BEGIN:VEVENT
DTSTART;TZID=America/Chicago:20250413T140000
DTEND;TZID=America/Chicago:20250413T150000
DTSTAMP:20260421T145651
CREATED:20241219T162425Z
LAST-MODIFIED:20250413T055555Z
UID:10000762-1744552800-1744556400@valleycoc.com
SUMMARY:Sunday PM Service
DESCRIPTION:Speaker: Garrison
URL:https://valleycoc.com/eventsadd/sunday-pm-service-118/
LOCATION:Valley Church of Christ\, 121 E College St\, Gunter\, TX\, United States
CATEGORIES:Service
GEO:33.45294;-96.740493
X-APPLE-STRUCTURED-LOCATION;VALUE=URI;X-ADDRESS=Valley Church of Christ 121 E College St Gunter TX United States;X-APPLE-RADIUS=500;X-TITLE=121 E College St:geo:-96.740493,33.45294
END:VEVENT
BEGIN:VEVENT
DTSTART;TZID=America/Chicago:20250416T193000
DTEND;TZID=America/Chicago:20250416T203000
DTSTAMP:20260421T145651
CREATED:20241223T163920Z
LAST-MODIFIED:20250416T055507Z
UID:10000764-1744831800-1744835400@valleycoc.com
SUMMARY:Wednesday Evening Service
DESCRIPTION:Speaker: Lynn
URL:https://valleycoc.com/eventsadd/wednesday-evening-service-122/
LOCATION:Valley Church of Christ\, 121 E College St\, Gunter\, TX\, United States
CATEGORIES:Service
GEO:33.45294;-96.740493
X-APPLE-STRUCTURED-LOCATION;VALUE=URI;X-ADDRESS=Valley Church of Christ 121 E College St Gunter TX United States;X-APPLE-RADIUS=500;X-TITLE=121 E College St:geo:-96.740493,33.45294
END:VEVENT
BEGIN:VEVENT
DTSTART;TZID=America/Chicago:20250420T103000
DTEND;TZID=America/Chicago:20250420T120000
DTSTAMP:20260421T145651
CREATED:20241223T163920Z
LAST-MODIFIED:20250420T055446Z
UID:10000765-1745145000-1745150400@valleycoc.com
SUMMARY:Sunday AM Service
DESCRIPTION:Speaker: Alan
URL:https://valleycoc.com/eventsadd/sunday-am-service-121/
LOCATION:Valley Church of Christ\, 121 E College St\, Gunter\, TX\, United States
CATEGORIES:Service
GEO:33.45294;-96.740493
X-APPLE-STRUCTURED-LOCATION;VALUE=URI;X-ADDRESS=Valley Church of Christ 121 E College St Gunter TX United States;X-APPLE-RADIUS=500;X-TITLE=121 E College St:geo:-96.740493,33.45294
END:VEVENT
BEGIN:VEVENT
DTSTART;TZID=America/Chicago:20250420T140000
DTEND;TZID=America/Chicago:20250420T150000
DTSTAMP:20260421T145651
CREATED:20241226T164047Z
LAST-MODIFIED:20250420T055446Z
UID:10000766-1745157600-1745161200@valleycoc.com
SUMMARY:Sunday PM Service
DESCRIPTION:Speaker: Michael
URL:https://valleycoc.com/eventsadd/sunday-pm-service-119/
LOCATION:Valley Church of Christ\, 121 E College St\, Gunter\, TX\, United States
CATEGORIES:Service
GEO:33.45294;-96.740493
X-APPLE-STRUCTURED-LOCATION;VALUE=URI;X-ADDRESS=Valley Church of Christ 121 E College St Gunter TX United States;X-APPLE-RADIUS=500;X-TITLE=121 E College St:geo:-96.740493,33.45294
END:VEVENT
BEGIN:VEVENT
DTSTART;TZID=America/Chicago:20250423T193000
DTEND;TZID=America/Chicago:20250423T203000
DTSTAMP:20260421T145651
CREATED:20241230T164117Z
LAST-MODIFIED:20250423T055422Z
UID:10000767-1745436600-1745440200@valleycoc.com
SUMMARY:Wednesday Evening Service
DESCRIPTION:Speaker: Wesley
URL:https://valleycoc.com/eventsadd/wednesday-evening-service-123/
LOCATION:Valley Church of Christ\, 121 E College St\, Gunter\, TX\, United States
CATEGORIES:Service
GEO:33.45294;-96.740493
X-APPLE-STRUCTURED-LOCATION;VALUE=URI;X-ADDRESS=Valley Church of Christ 121 E College St Gunter TX United States;X-APPLE-RADIUS=500;X-TITLE=121 E College St:geo:-96.740493,33.45294
END:VEVENT
BEGIN:VEVENT
DTSTART;TZID=America/Chicago:20250427T103000
DTEND;TZID=America/Chicago:20250427T120000
DTSTAMP:20260421T145651
CREATED:20241230T164117Z
LAST-MODIFIED:20250427T062418Z
UID:10000768-1745749800-1745755200@valleycoc.com
SUMMARY:Sunday AM Service
DESCRIPTION:Speaker: Merrill
URL:https://valleycoc.com/eventsadd/sunday-am-service-122/
LOCATION:Valley Church of Christ\, 121 E College St\, Gunter\, TX\, United States
CATEGORIES:Service
GEO:33.45294;-96.740493
X-APPLE-STRUCTURED-LOCATION;VALUE=URI;X-ADDRESS=Valley Church of Christ 121 E College St Gunter TX United States;X-APPLE-RADIUS=500;X-TITLE=121 E College St:geo:-96.740493,33.45294
END:VEVENT
BEGIN:VEVENT
DTSTART;TZID=America/Chicago:20250427T140000
DTEND;TZID=America/Chicago:20250427T150000
DTSTAMP:20260421T145651
CREATED:20250102T165549Z
LAST-MODIFIED:20250427T062418Z
UID:10000769-1745762400-1745766000@valleycoc.com
SUMMARY:Sunday PM Service
DESCRIPTION:Speaker: Ryan O’Hanlon
URL:https://valleycoc.com/eventsadd/sunday-pm-service-120/
LOCATION:Valley Church of Christ\, 121 E College St\, Gunter\, TX\, United States
CATEGORIES:Service
GEO:33.45294;-96.740493
X-APPLE-STRUCTURED-LOCATION;VALUE=URI;X-ADDRESS=Valley Church of Christ 121 E College St Gunter TX United States;X-APPLE-RADIUS=500;X-TITLE=121 E College St:geo:-96.740493,33.45294
END:VEVENT
END:VCALENDAR