BEGIN:VCALENDAR
VERSION:2.0
PRODID:-//Valley Church of Christ - ECPv6.15.18//NONSGML v1.0//EN
CALSCALE:GREGORIAN
METHOD:PUBLISH
X-WR-CALNAME:Valley Church of Christ
X-ORIGINAL-URL:https://valleycoc.com
X-WR-CALDESC:Events for Valley Church of Christ
REFRESH-INTERVAL;VALUE=DURATION:PT1H
X-Robots-Tag:noindex
X-PUBLISHED-TTL:PT1H
BEGIN:VTIMEZONE
TZID:America/Chicago
BEGIN:DAYLIGHT
TZOFFSETFROM:-0600
TZOFFSETTO:-0500
TZNAME:CDT
DTSTART:20230312T080000
END:DAYLIGHT
BEGIN:STANDARD
TZOFFSETFROM:-0500
TZOFFSETTO:-0600
TZNAME:CST
DTSTART:20231105T070000
END:STANDARD
BEGIN:DAYLIGHT
TZOFFSETFROM:-0600
TZOFFSETTO:-0500
TZNAME:CDT
DTSTART:20240310T080000
END:DAYLIGHT
BEGIN:STANDARD
TZOFFSETFROM:-0500
TZOFFSETTO:-0600
TZNAME:CST
DTSTART:20241103T070000
END:STANDARD
BEGIN:DAYLIGHT
TZOFFSETFROM:-0600
TZOFFSETTO:-0500
TZNAME:CDT
DTSTART:20250309T080000
END:DAYLIGHT
BEGIN:STANDARD
TZOFFSETFROM:-0500
TZOFFSETTO:-0600
TZNAME:CST
DTSTART:20251102T070000
END:STANDARD
END:VTIMEZONE
BEGIN:VEVENT
DTSTART;TZID=America/Chicago:20240512T103000
DTEND;TZID=America/Chicago:20240512T120000
DTSTAMP:20260422T223616
CREATED:20240114T232540Z
LAST-MODIFIED:20240512T071058Z
UID:10000600-1715509800-1715515200@valleycoc.com
SUMMARY:Sunday AM Service
DESCRIPTION:Speaker: Brad Walters
URL:https://valleycoc.com/eventsadd/sunday-am-service-72/
LOCATION:Valley Church of Christ\, 121 E College St\, Gunter\, TX 75058\, USA
CATEGORIES:Service
END:VEVENT
BEGIN:VEVENT
DTSTART;TZID=America/Chicago:20240512T140000
DTEND;TZID=America/Chicago:20240512T150000
DTSTAMP:20260422T223616
CREATED:20240118T232635Z
LAST-MODIFIED:20240512T071058Z
UID:10000602-1715522400-1715526000@valleycoc.com
SUMMARY:Sunday PM Service
DESCRIPTION:Speaker: Zach Walston
URL:https://valleycoc.com/eventsadd/sunday-pm-service-70/
LOCATION:Valley Church of Christ\, 121 E College St\, Gunter\, TX 75058\, USA
CATEGORIES:Service
END:VEVENT
END:VCALENDAR